BEGIN:VCALENDAR
VERSION:2.0
PRODID:-//eventon.com NONSGML v1.0//EN
CALSCALE:GREGORIAN
METHOD:PUBLISH
BEGIN:VEVENT
UID:69ed26f408b9f
DTSTAMP:20260425T204124Z
DTSTART:20260107T170000Z
DTEND:20260107T190000Z
LOCATION:Atelier Köln Maria-Hilf-Straße 4\,  50677 Köln
SUMMARY:Goldschmiedekurs Mittwoch
DESCRIPTION:In kleinen Gruppen und angenehmer entspannter Atmosphäre lerne
 n Sie Schmuckideen zu entwickeln und umzusetzen. Sie werden sägen\,  löte
 n\,  feilen und Steine fassen und peu à peu in die Kunst des Goldschmiedeh
 andwerks eingeführt. Termine Mi. 18:00 – 20:00 Uhr Fortlaufend Vorkenntn
 isse sind nicht erforderlich – Zertifikate möglich. Kosten Pro Kurs 50\,
  -[..]\nhttps://www.schmuckakademie-koeln.de/events/goldschmiedekurs-mittwo
 ch-koeln/var/ri-18.l-L1
URL:https://www.schmuckakademie-koeln.de/events/goldschmiedekurs-mittwoch-koeln/var/ri-18.l-L1
END:VEVENT
END:VCALENDAR