BEGIN:VCALENDAR
VERSION:2.0
PRODID:-//eventon.com NONSGML v1.0//EN
CALSCALE:GREGORIAN
METHOD:PUBLISH
BEGIN:VEVENT
UID:69e9c00c34324
DTSTAMP:20260423T064532Z
DTSTART:20220907T160000Z
DTEND:20220907T180000Z
LOCATION:
SUMMARY:Goldsmith Course – Wednesday (Cologne)
DESCRIPTION:In small groups and in a pleasant\,  relaxed atmosphere\,  you 
 will learn to develop and implement jewelry ideas. You will saw\,  solder\,
   file and set stones and gradually be introduced to the art of goldsmithin
 g. Events Wed. 6:00 p.m. &#8211; 8:00 p.m. Ongoing Prior knowledge is not r
 equired – gift[..]\nhttps://www.schmuckakademie-koeln.de/en/events/goldsm
 ith-course-wednesday-cologne/var/ri-66.l-L1
URL:https://www.schmuckakademie-koeln.de/en/events/goldsmith-course-wednesday-cologne/var/ri-66.l-L1
END:VEVENT
END:VCALENDAR