BEGIN:VCALENDAR
VERSION:2.0
PRODID:-//eventon.com NONSGML v1.0//EN
CALSCALE:GREGORIAN
METHOD:PUBLISH
BEGIN:VEVENT
UID:69e5568474d6e
DTSTAMP:20260419T222612Z
DTSTART:20210831T090000Z
DTEND:20210831T110000Z
LOCATION:
SUMMARY:Goldsmith Course – Tuesday (Cologne)
DESCRIPTION:In small groups and in a pleasant\,  relaxed atmosphere\,  you 
 will learn to develop and implement jewelry ideas. You will saw\,  solder\,
   file and set stones and gradually be introduced to the art of goldsmithin
 g. Events Tuesday 11 a.m. &#8211; 1 p.m. Ongoing Prior knowledge is not req
 uired – gift[..]\nhttps://www.schmuckakademie-koeln.de/en/events/goldsmit
 h-course-tuesday-cologne/var/ri-13.l-L1
URL:https://www.schmuckakademie-koeln.de/en/events/goldsmith-course-tuesday-cologne/var/ri-13.l-L1
END:VEVENT
END:VCALENDAR